BEGIN:VCALENDAR
VERSION:2.0
PRODID:-//Gemeinde Westerheim - ECPv5.4.0//NONSGML v1.0//EN
CALSCALE:GREGORIAN
METHOD:PUBLISH
X-WR-CALNAME:Gemeinde Westerheim
X-ORIGINAL-URL:https://www.gemeinde-westerheim.de
X-WR-CALDESC:Veranstaltungen für Gemeinde Westerheim
BEGIN:VTIMEZONE
TZID:Europe/Berlin
BEGIN:DAYLIGHT
TZOFFSETFROM:+0100
TZOFFSETTO:+0200
TZNAME:CEST
DTSTART:20230326T010000
END:DAYLIGHT
BEGIN:STANDARD
TZOFFSETFROM:+0200
TZOFFSETTO:+0100
TZNAME:CET
DTSTART:20231029T010000
END:STANDARD
END:VTIMEZONE
BEGIN:VEVENT
DTSTART;TZID=Europe/Berlin:20230209T200000
DTEND;TZID=Europe/Berlin:20230210T000000
DTSTAMP:20260425T171341
CREATED:20230125T141809Z
LAST-MODIFIED:20230125T141809Z
UID:6452-1675972800-1675987200@www.gemeinde-westerheim.de
SUMMARY:Bauraball
DESCRIPTION:Die Veranstaltung findet um 20 Uhr in der Mehrzweckhalle in Westerheim statt.
URL:https://www.gemeinde-westerheim.de/event/bauraball/
LOCATION:Mehrzweckhalle Westerheim\, Bahnhofstr. 2\, Westerheim\, 87784\, Deutschland
CATEGORIES:Veranstaltungen
END:VEVENT
END:VCALENDAR