BEGIN:VCALENDAR
VERSION:2.0
PRODID:-//Gemeinde Westerheim - ECPv5.4.0//NONSGML v1.0//EN
CALSCALE:GREGORIAN
METHOD:PUBLISH
X-WR-CALNAME:Gemeinde Westerheim
X-ORIGINAL-URL:https://www.gemeinde-westerheim.de
X-WR-CALDESC:Veranstaltungen für Gemeinde Westerheim
BEGIN:VTIMEZONE
TZID:Europe/Berlin
BEGIN:DAYLIGHT
TZOFFSETFROM:+0100
TZOFFSETTO:+0200
TZNAME:CEST
DTSTART:20240331T010000
END:DAYLIGHT
BEGIN:STANDARD
TZOFFSETFROM:+0200
TZOFFSETTO:+0100
TZNAME:CET
DTSTART:20241027T010000
END:STANDARD
END:VTIMEZONE
BEGIN:VEVENT
DTSTART;TZID=Europe/Berlin:20240727T200000
DTEND;TZID=Europe/Berlin:20240727T233000
DTSTAMP:20260419T220337
CREATED:20240716T151412Z
LAST-MODIFIED:20240716T151412Z
UID:8943-1722110400-1722123000@www.gemeinde-westerheim.de
SUMMARY:BACK TO THE ROOTS meets BRASS-GAUDI\, 26.07. und 27.07.24
DESCRIPTION:In diesem Jahr findet unser OpenAir ‘Back to the Roots’ am Sportgelände Lauben erneut an zwei Tagen statt: \n27.07: Wiesn-Flair mit den Westerheimer Musikanten\, Einlass U18 nur mit Erziehungsübertragung\, Einlass U16 nur mit einer erziehungsberechtigten Person. Specials an beiden Tagen: Cocktail-Bar\, Aperol-Bar\, Pilsbar\, überdachte Schnaps-BarAuf.   Euer Kommen freut sich das Team der SpVgg Günz/Lauben
URL:https://www.gemeinde-westerheim.de/event/back-to-the-roots-meets-brass-gaudi-26-07-und-27-07-24-2/
LOCATION:Sportgelände Lauben\, Lauben\, 87761\, Deutschland
CATEGORIES:Veranstaltungen
END:VEVENT
END:VCALENDAR