BEGIN:VCALENDAR
VERSION:2.0
PRODID:-//Gemeinde Westerheim - ECPv5.4.0//NONSGML v1.0//EN
CALSCALE:GREGORIAN
METHOD:PUBLISH
X-WR-CALNAME:Gemeinde Westerheim
X-ORIGINAL-URL:https://www.gemeinde-westerheim.de
X-WR-CALDESC:Veranstaltungen für Gemeinde Westerheim
BEGIN:VTIMEZONE
TZID:Europe/Berlin
BEGIN:DAYLIGHT
TZOFFSETFROM:+0100
TZOFFSETTO:+0200
TZNAME:CEST
DTSTART:20250330T010000
END:DAYLIGHT
BEGIN:STANDARD
TZOFFSETFROM:+0200
TZOFFSETTO:+0100
TZNAME:CET
DTSTART:20251026T010000
END:STANDARD
END:VTIMEZONE
BEGIN:VEVENT
DTSTART;TZID=Europe/Berlin:20250125T100000
DTEND;TZID=Europe/Berlin:20250125T170000
DTSTAMP:20260423T151045
CREATED:20250108T075807Z
LAST-MODIFIED:20250108T075807Z
UID:9625-1737799200-1737824400@www.gemeinde-westerheim.de
SUMMARY:Anbetungstag am 25.01.2025 in Günz - Pfarrgemeinderat Günz - Eine halbe Stunde für Gott!
DESCRIPTION:Um 10 Uhr wird das Allerheiligste ausgesetzt. Danach haben Sie die Gelegenheit zur stillen Anbetung. Damit das Allerheiligste während des Anbetungszeitraumes nie allein bleibt\, suchen wir Personen\, die für jeweils eine halbe Stunde zur stillen Anbetung in der Kirche verweilen. Ab Sonntag\, 12.01.25 liegt im Vorzeichen eine Liste aus\, in welche Sie sich eintragen können. Zum Abschluss findet um 16 Uhr die Vorabendmesse mit Einsetzung des Allerheiligsten statt.                         Ihr Pfarrgemeinderat Günz
URL:https://www.gemeinde-westerheim.de/event/anbetungstag-am-25-01-2025-in-guenz-pfarrgemeinderat-guenz-eine-halbe-stunde-fuer-gott/
CATEGORIES:Veranstaltungen
END:VEVENT
END:VCALENDAR