BEGIN:VCALENDAR
VERSION:2.0
PRODID:-//Gemeinde Westerheim - ECPv5.4.0//NONSGML v1.0//EN
CALSCALE:GREGORIAN
METHOD:PUBLISH
X-WR-CALNAME:Gemeinde Westerheim
X-ORIGINAL-URL:https://www.gemeinde-westerheim.de
X-WR-CALDESC:Veranstaltungen für Gemeinde Westerheim
BEGIN:VTIMEZONE
TZID:Europe/Berlin
BEGIN:DAYLIGHT
TZOFFSETFROM:+0100
TZOFFSETTO:+0200
TZNAME:CEST
DTSTART:20240331T010000
END:DAYLIGHT
BEGIN:STANDARD
TZOFFSETFROM:+0200
TZOFFSETTO:+0100
TZNAME:CET
DTSTART:20241027T010000
END:STANDARD
END:VTIMEZONE
BEGIN:VEVENT
DTSTART;VALUE=DATE:20240726
DTEND;VALUE=DATE:20240729
DTSTAMP:20260419T202017
CREATED:20240716T155155Z
LAST-MODIFIED:20240716T155155Z
UID:8955-1721952000-1722211199@www.gemeinde-westerheim.de
SUMMARY:Allgäuer Skulpturen-Sommer 26.– 28. Juli 2024
DESCRIPTION:Die Galerie Horst Wendland veranstaltet zusammen mit der Gemeinde Lauben den 5. Allgäuer-Skulpturensommer. Herzliche Einladung hierzu am Freitag ab 17 Uhr\, Samstag und Sonntag von 11 – 18 Uhr\, Professionelle Künstler aus ganz Europa stellen im Dorfgemeinschaftshaus in Frickenhausen\, Buchhaldestr. 18\, und im Außenbereich ihre Kunstwerke aus. Erstmalig wird auch der Garten des Vöhlinschlosses in Frickenhausen in die Ausstellung mit einbezogen. Wir freuen uns auf Ihren Besuch. www.allgäuer-skulpturen-sommer.de
URL:https://www.gemeinde-westerheim.de/event/allgaeuer-skulpturen-sommer-26-28-juli-2024/
LOCATION:Frickenhausen
CATEGORIES:Veranstaltungen
END:VEVENT
END:VCALENDAR